BEGIN:VCALENDAR
VERSION:2.0
PRODID:-//PhotogMusic - ECPv6.15.20//NONSGML v1.0//EN
CALSCALE:GREGORIAN
METHOD:PUBLISH
X-WR-CALNAME:PhotogMusic
X-ORIGINAL-URL:http://photogmusic.com
X-WR-CALDESC:Events for PhotogMusic
REFRESH-INTERVAL;VALUE=DURATION:PT1H
X-Robots-Tag:noindex
X-PUBLISHED-TTL:PT1H
BEGIN:VTIMEZONE
TZID:America/Toronto
BEGIN:DAYLIGHT
TZOFFSETFROM:-0500
TZOFFSETTO:-0400
TZNAME:EDT
DTSTART:20210314T070000
END:DAYLIGHT
BEGIN:STANDARD
TZOFFSETFROM:-0400
TZOFFSETTO:-0500
TZNAME:EST
DTSTART:20211107T060000
END:STANDARD
BEGIN:DAYLIGHT
TZOFFSETFROM:-0500
TZOFFSETTO:-0400
TZNAME:EDT
DTSTART:20220313T070000
END:DAYLIGHT
BEGIN:STANDARD
TZOFFSETFROM:-0400
TZOFFSETTO:-0500
TZNAME:EST
DTSTART:20221106T060000
END:STANDARD
BEGIN:DAYLIGHT
TZOFFSETFROM:-0500
TZOFFSETTO:-0400
TZNAME:EDT
DTSTART:20230312T070000
END:DAYLIGHT
BEGIN:STANDARD
TZOFFSETFROM:-0400
TZOFFSETTO:-0500
TZNAME:EST
DTSTART:20231105T060000
END:STANDARD
END:VTIMEZONE
BEGIN:VEVENT
DTSTART;TZID=America/Toronto:20221126T200000
DTEND;TZID=America/Toronto:20221126T230000
DTSTAMP:20260422T211645
CREATED:20221113T162105Z
LAST-MODIFIED:20221113T162106Z
UID:55965-1669492800-1669503600@photogmusic.com
SUMMARY:Boyhood with Mr. Power @ Spark Beer
DESCRIPTION:First Crush\, with support from CKCU 93.1 FM\, presents… \n✿ Boyhood – My Dread LP record release show with Mr. Power! ✿\nCelebrate Boyhood’s new album My Dread\, out November 18th\, with special guest Mr. Power! \n✿ ABOUT THE ARTISTS ✿ \nBoyhood\nCaylie Runciman lives at the end of a long dirt road in Central Frontenac\, Ontario. She has released music under the name Boyhood since 2011\, when her lo-fi cassette releases earned her slots at festivals and showcases across Canada and the United States. Her songs are a signature combination of opposing elements: catchy and heartbreaking; relatable and alien.\nRunciman’s 2018 album Bad Mantras saw her surveying the fallout of a rough few years by way of sharp songcraft and bold arrangements. Gorilla vs. Bear debuted the record for streaming\, hailing it as “subtly brilliant” and “raw and beautiful.” The song “Drivin” – praised as a “gentle rock ‘n’ roller” by Exclaim – was featured in the Netflix series Northern Rescue.\nBoyhood’s latest record\, My Dread\, was written\, performed\, produced and engineered by Runciman. It marks her most painstaking musical creation to date – one that mirrors her introduction to motherhood. It was mixed by Kenny Gilmore (Julia Holter\, Ariel Pink) and mastered by Heather Kirby (Austra\, Leanne Betasamosake Simpson\, Le Ren).\nIn addition to her work as Boyhood\, Runciman assists in running Port William Sound\, an artists’ retreat and studio space north of Kingston.\n\n\nMy Dread (Nov 2022) by boyhood\nMr. Power\nMr. Power is a solo project that has evolved into a full fledged psychedelic rock and roll outfit birthed in 2020 after the release of the EP Romance. Since then the band has been playing steadily and developing their rock as well as their roll.\n\n✿ ABOUT THE SHOW ✿ \nSaturday\, November 26th\, 2022\nSpark Beer – 702 Somerset Street West\n8:00PM\n19+ / Licensed\n$12 at the door / no one turned away for lack of funds\nDoor tickets are payable by cash only
URL:http://photogmusic.com/event/boyhood-mrpower-sparkbeer/
LOCATION:Spark Beer\, 702 Somerset St. W\, Ottawa\, ON\, K1R 6P6\, Canada
CATEGORIES:Events
ATTACH;FMTTYPE=image/jpeg:http://photogmusic.com/wp-content/uploads/2022/11/boyhood-mrpower-sparkbeer.jpg
END:VEVENT
END:VCALENDAR