BEGIN:VCALENDAR
VERSION:2.0
PRODID:-//PhotogMusic - ECPv6.15.20//NONSGML v1.0//EN
CALSCALE:GREGORIAN
METHOD:PUBLISH
X-WR-CALNAME:PhotogMusic
X-ORIGINAL-URL:https://photogmusic.com
X-WR-CALDESC:Events for PhotogMusic
REFRESH-INTERVAL;VALUE=DURATION:PT1H
X-Robots-Tag:noindex
X-PUBLISHED-TTL:PT1H
BEGIN:VTIMEZONE
TZID:America/Toronto
BEGIN:DAYLIGHT
TZOFFSETFROM:-0500
TZOFFSETTO:-0400
TZNAME:EDT
DTSTART:20240310T070000
END:DAYLIGHT
BEGIN:STANDARD
TZOFFSETFROM:-0400
TZOFFSETTO:-0500
TZNAME:EST
DTSTART:20241103T060000
END:STANDARD
BEGIN:DAYLIGHT
TZOFFSETFROM:-0500
TZOFFSETTO:-0400
TZNAME:EDT
DTSTART:20250309T070000
END:DAYLIGHT
BEGIN:STANDARD
TZOFFSETFROM:-0400
TZOFFSETTO:-0500
TZNAME:EST
DTSTART:20251102T060000
END:STANDARD
BEGIN:DAYLIGHT
TZOFFSETFROM:-0500
TZOFFSETTO:-0400
TZNAME:EDT
DTSTART:20260308T070000
END:DAYLIGHT
BEGIN:STANDARD
TZOFFSETFROM:-0400
TZOFFSETTO:-0500
TZNAME:EST
DTSTART:20261101T060000
END:STANDARD
END:VTIMEZONE
BEGIN:VEVENT
DTSTART;TZID=America/Toronto:20250613T080000
DTEND;TZID=America/Toronto:20250613T170000
DTSTAMP:20260420T173239
CREATED:20250327T172337Z
LAST-MODIFIED:20250327T172415Z
UID:69121-1749801600-1749834000@photogmusic.com
SUMMARY:Loving & Ora Cogan @ The Rainbow Bistro
DESCRIPTION:
URL:https://photogmusic.com/event/loving-ora-cogan-the-rainbow-bistro/
LOCATION:The Rainbow Bistro\, 76 Murray St\, Ottawa\, ON\, K1N 5M6\, Canada
CATEGORIES:Events
ATTACH;FMTTYPE=image/jpeg:https://photogmusic.com/wp-content/uploads/2025/03/loving-oracogan-rainbowbistro.jpeg
END:VEVENT
END:VCALENDAR