BEGIN:VCALENDAR
VERSION:2.0
PRODID:-//PhotogMusic - ECPv6.15.20//NONSGML v1.0//EN
CALSCALE:GREGORIAN
METHOD:PUBLISH
X-WR-CALNAME:PhotogMusic
X-ORIGINAL-URL:https://photogmusic.com
X-WR-CALDESC:Events for PhotogMusic
REFRESH-INTERVAL;VALUE=DURATION:PT1H
X-Robots-Tag:noindex
X-PUBLISHED-TTL:PT1H
BEGIN:VTIMEZONE
TZID:America/Toronto
BEGIN:DAYLIGHT
TZOFFSETFROM:-0500
TZOFFSETTO:-0400
TZNAME:EDT
DTSTART:20240310T070000
END:DAYLIGHT
BEGIN:STANDARD
TZOFFSETFROM:-0400
TZOFFSETTO:-0500
TZNAME:EST
DTSTART:20241103T060000
END:STANDARD
BEGIN:DAYLIGHT
TZOFFSETFROM:-0500
TZOFFSETTO:-0400
TZNAME:EDT
DTSTART:20250309T070000
END:DAYLIGHT
BEGIN:STANDARD
TZOFFSETFROM:-0400
TZOFFSETTO:-0500
TZNAME:EST
DTSTART:20251102T060000
END:STANDARD
BEGIN:DAYLIGHT
TZOFFSETFROM:-0500
TZOFFSETTO:-0400
TZNAME:EDT
DTSTART:20260308T070000
END:DAYLIGHT
BEGIN:STANDARD
TZOFFSETFROM:-0400
TZOFFSETTO:-0500
TZNAME:EST
DTSTART:20261101T060000
END:STANDARD
END:VTIMEZONE
BEGIN:VEVENT
DTSTART;TZID=America/Toronto:20250710T180000
DTEND;TZID=America/Toronto:20250710T230000
DTSTAMP:20260420T190802
CREATED:20250706T134122Z
LAST-MODIFIED:20250706T134251Z
UID:69674-1752170400-1752188400@photogmusic.com
SUMMARY:Ottawa Bluesfest 2025 [Picks for Day 1]
DESCRIPTION:Picks for the first night of Ottawa Bluesfest 2025.\nGo over to the River Stage for:\nFather John Misty\n\nMelbourne Ska Orchestra\n \nGo over to LeBreton Stage for:\nThe Cat Empire
URL:https://photogmusic.com/event/ottawa-bluesfest-2025-picks-for-day-1/
LOCATION:LeBreton Flats\, 1 Vimy Place\, Ottawa\, ON\, K1A 0M8\, Canada
CATEGORIES:Events
ATTACH;FMTTYPE=image/jpeg:https://photogmusic.com/wp-content/uploads/2025/07/ottawabluesfest2025.jpg
END:VEVENT
BEGIN:VEVENT
DTSTART;TZID=America/Toronto:20250711T180000
DTEND;TZID=America/Toronto:20250711T230000
DTSTAMP:20260420T190802
CREATED:20250706T135007Z
LAST-MODIFIED:20250706T135008Z
UID:69677-1752256800-1752274800@photogmusic.com
SUMMARY:Ottawa Bluesfest 2025 [Picks for Day 2]
DESCRIPTION:Picks for the second night of Ottawa Bluesfest 2025.\nGo over to the main stage for:\nHOZIER:\n\nCharlotte Day Wilson:\n\nClaude Munson:\n \nGo to LeBreton Stage for:\nSarah Harmer:\n\nKristine St-Pierre:
URL:https://photogmusic.com/event/ottawa-bluesfest-2025-picks-for-day-2/
LOCATION:LeBreton Flats\, 1 Vimy Place\, Ottawa\, ON\, K1A 0M8\, Canada
CATEGORIES:Events
ATTACH;FMTTYPE=image/jpeg:https://photogmusic.com/wp-content/uploads/2025/07/ottawabluesfest2025.jpg
END:VEVENT
END:VCALENDAR