BEGIN:VCALENDAR
VERSION:2.0
PRODID:-//PhotogMusic - ECPv6.15.20//NONSGML v1.0//EN
CALSCALE:GREGORIAN
METHOD:PUBLISH
X-WR-CALNAME:PhotogMusic
X-ORIGINAL-URL:https://photogmusic.com
X-WR-CALDESC:Events for PhotogMusic
REFRESH-INTERVAL;VALUE=DURATION:PT1H
X-Robots-Tag:noindex
X-PUBLISHED-TTL:PT1H
BEGIN:VTIMEZONE
TZID:America/Toronto
BEGIN:DAYLIGHT
TZOFFSETFROM:-0500
TZOFFSETTO:-0400
TZNAME:EDT
DTSTART:20220313T070000
END:DAYLIGHT
BEGIN:STANDARD
TZOFFSETFROM:-0400
TZOFFSETTO:-0500
TZNAME:EST
DTSTART:20221106T060000
END:STANDARD
BEGIN:DAYLIGHT
TZOFFSETFROM:-0500
TZOFFSETTO:-0400
TZNAME:EDT
DTSTART:20230312T070000
END:DAYLIGHT
BEGIN:STANDARD
TZOFFSETFROM:-0400
TZOFFSETTO:-0500
TZNAME:EST
DTSTART:20231105T060000
END:STANDARD
BEGIN:DAYLIGHT
TZOFFSETFROM:-0500
TZOFFSETTO:-0400
TZNAME:EDT
DTSTART:20240310T070000
END:DAYLIGHT
BEGIN:STANDARD
TZOFFSETFROM:-0400
TZOFFSETTO:-0500
TZNAME:EST
DTSTART:20241103T060000
END:STANDARD
END:VTIMEZONE
BEGIN:VEVENT
DTSTART;TZID=America/Toronto:20231006T203000
DTEND;TZID=America/Toronto:20231006T230000
DTSTAMP:20260420T161620
CREATED:20231004T145501Z
LAST-MODIFIED:20231004T145502Z
UID:59564-1696624200-1696633200@photogmusic.com
SUMMARY:afternoon bike ride @ NAC Fourth Stage
DESCRIPTION:
URL:https://photogmusic.com/event/afternoon-bike-ride-nac-fourth-stage/
LOCATION:National Arts Centre\, 1 Elgin Street\, Ottawa\, ON\, K1P 5W1\, Canada
CATEGORIES:Events
ATTACH;FMTTYPE=image/jpeg:https://photogmusic.com/wp-content/uploads/2023/03/afternoonbikeride-rainbowbistro-1.jpg
END:VEVENT
END:VCALENDAR