BEGIN:VCALENDAR
VERSION:2.0
PRODID:-//PhotogMusic - ECPv6.15.20//NONSGML v1.0//EN
CALSCALE:GREGORIAN
METHOD:PUBLISH
X-WR-CALNAME:PhotogMusic
X-ORIGINAL-URL:https://photogmusic.com
X-WR-CALDESC:Events for PhotogMusic
REFRESH-INTERVAL;VALUE=DURATION:PT1H
X-Robots-Tag:noindex
X-PUBLISHED-TTL:PT1H
BEGIN:VTIMEZONE
TZID:America/Toronto
BEGIN:DAYLIGHT
TZOFFSETFROM:-0500
TZOFFSETTO:-0400
TZNAME:EDT
DTSTART:20220313T070000
END:DAYLIGHT
BEGIN:STANDARD
TZOFFSETFROM:-0400
TZOFFSETTO:-0500
TZNAME:EST
DTSTART:20221106T060000
END:STANDARD
BEGIN:DAYLIGHT
TZOFFSETFROM:-0500
TZOFFSETTO:-0400
TZNAME:EDT
DTSTART:20230312T070000
END:DAYLIGHT
BEGIN:STANDARD
TZOFFSETFROM:-0400
TZOFFSETTO:-0500
TZNAME:EST
DTSTART:20231105T060000
END:STANDARD
BEGIN:DAYLIGHT
TZOFFSETFROM:-0500
TZOFFSETTO:-0400
TZNAME:EDT
DTSTART:20240310T070000
END:DAYLIGHT
BEGIN:STANDARD
TZOFFSETFROM:-0400
TZOFFSETTO:-0500
TZNAME:EST
DTSTART:20241103T060000
END:STANDARD
END:VTIMEZONE
BEGIN:VEVENT
DTSTART;TZID=America/Toronto:20231110T200000
DTEND;TZID=America/Toronto:20231110T230000
DTSTAMP:20260420T143510
CREATED:20231107T160147Z
LAST-MODIFIED:20231107T160147Z
UID:59861-1699646400-1699657200@photogmusic.com
SUMMARY:Pony Girl and Luella @ Club Saw
DESCRIPTION:
URL:https://photogmusic.com/event/pony-girl-and-luella-club-saw/
LOCATION:Club Saw\, 67 Nicholas St\, Ottawa\, ON\, K1N 7B9\, Canada
CATEGORIES:Events
ATTACH;FMTTYPE=image/jpeg:https://photogmusic.com/wp-content/uploads/2023/11/ponygirl-luella-clubsaw-nov10-2023.jpg
END:VEVENT
END:VCALENDAR