BEGIN:VCALENDAR
VERSION:2.0
PRODID:-//PhotogMusic - ECPv6.15.20//NONSGML v1.0//EN
CALSCALE:GREGORIAN
METHOD:PUBLISH
X-ORIGINAL-URL:https://photogmusic.com
X-WR-CALDESC:Events for PhotogMusic
REFRESH-INTERVAL;VALUE=DURATION:PT1H
X-Robots-Tag:noindex
X-PUBLISHED-TTL:PT1H
BEGIN:VTIMEZONE
TZID:America/Toronto
BEGIN:DAYLIGHT
TZOFFSETFROM:-0500
TZOFFSETTO:-0400
TZNAME:EDT
DTSTART:20230312T070000
END:DAYLIGHT
BEGIN:STANDARD
TZOFFSETFROM:-0400
TZOFFSETTO:-0500
TZNAME:EST
DTSTART:20231105T060000
END:STANDARD
BEGIN:DAYLIGHT
TZOFFSETFROM:-0500
TZOFFSETTO:-0400
TZNAME:EDT
DTSTART:20240310T070000
END:DAYLIGHT
BEGIN:STANDARD
TZOFFSETFROM:-0400
TZOFFSETTO:-0500
TZNAME:EST
DTSTART:20241103T060000
END:STANDARD
BEGIN:DAYLIGHT
TZOFFSETFROM:-0500
TZOFFSETTO:-0400
TZNAME:EDT
DTSTART:20250309T070000
END:DAYLIGHT
BEGIN:STANDARD
TZOFFSETFROM:-0400
TZOFFSETTO:-0500
TZNAME:EST
DTSTART:20251102T060000
END:STANDARD
END:VTIMEZONE
BEGIN:VEVENT
DTSTART;TZID=America/Toronto:20240816T200000
DTEND;TZID=America/Toronto:20240816T230000
DTSTAMP:20260419T222825
CREATED:20240815T132647Z
LAST-MODIFIED:20240815T132648Z
UID:62628-1723838400-1723849200@photogmusic.com
SUMMARY:Alix Fernz\, Boyhood & dj Flleur @ House of Targ
DESCRIPTION:
URL:https://photogmusic.com/event/alix-fernz-boyhood-dj-flleur-house-of-targ/
LOCATION:House of Targ\, 1077 Bank St\, Ottawa\, ON\, K1S 3W9\, Canada
CATEGORIES:Events
ATTACH;FMTTYPE=image/jpeg:https://photogmusic.com/wp-content/uploads/2024/08/alixfernz-boyhood-houseoftarg.jpg
END:VEVENT
BEGIN:VEVENT
DTSTART;TZID=America/Toronto:20240816T200000
DTEND;TZID=America/Toronto:20240816T233000
DTSTAMP:20260419T222825
CREATED:20240815T133513Z
LAST-MODIFIED:20240815T133513Z
UID:62631-1723838400-1723851000@photogmusic.com
SUMMARY:Orson Wilds\, Fox Lake\, Avec Plaisir\, Guest Room Status @ Rainbow Bistro
DESCRIPTION:
URL:https://photogmusic.com/event/orson-wilds-fox-lake-avec-plaisir-guest-room-status-rainbow-bistro/
LOCATION:The Rainbow Bistro\, 76 Murray St\, Ottawa\, ON\, K1N 5M6\, Canada
CATEGORIES:Events
ATTACH;FMTTYPE=image/jpeg:https://photogmusic.com/wp-content/uploads/2024/08/orsonwilds-foxlake-avecplaisir-guestroomstatus.jpg
END:VEVENT
END:VCALENDAR